BEGIN:VCALENDAR
VERSION:2.0
PRODID:-//Focus Pyme y Emprendimiento//EmprenemJunts//ES
BEGIN:VEVENT
UID:Evento_11073
DTSTAMP:20160909T125239Z
DTSTART:20161103T080000Z
DTEND:20161103T190000Z
SUMMARY:Focus Pyme y Emprendimiento
DESCRIPTION:
LOCATION:Alacant/Alicante (Alicante)
URL:https://focuspyme.emprenemjunts.es/?op=14&n=11073
END:VEVENT
END:VCALENDAR
