BEGIN:VCALENDAR
VERSION:2.0
PRODID:-//CEEI Elche//EmprenemJunts//ES
BEGIN:VEVENT
UID:Evento_12550
DTSTAMP:20170912T121008Z
DTSTART:20170920T063000Z
DTEND:20170922T124500Z
SUMMARY:XVIII Congreso sobre Adhesión y Adhesivos
DESCRIPTION:20-22 septiembre Barcelona
LOCATION:Barcelona (Barcelona)
URL:https://ceeielche.emprenemjunts.es/?op=14&n=12550
END:VEVENT
END:VCALENDAR
