BEGIN:VCALENDAR
VERSION:2.0
PRODID:-//CEEI Alcoy//EmprenemJunts//ES
BEGIN:VEVENT
UID:Evento_12812
DTSTAMP:20171109T095334Z
DTSTART:20171115T090000Z
DTEND:20171115T124500Z
SUMMARY:Foro Financiación para la innovación inteligente: Hacia la industria 4.0\"
DESCRIPTION:Foro de innovación
LOCATION:Alcoi/Alcoy (Alicante)
URL:https://ceeialcoi.emprenemjunts.es/?op=14&n=12812
END:VEVENT
END:VCALENDAR
