BEGIN:VCALENDAR
VERSION:2.0
PRODID:-//CEEI Elche//EmprenemJunts//ES
BEGIN:VEVENT
UID:Evento_13371
DTSTAMP:20180405T101351Z
DTSTART:20180426T073000Z
DTEND:20180426T114500Z
SUMMARY:Focus Pyme y Emprendimiento Baix Vinalopó 2018
DESCRIPTION:Crecimiento Azul
LOCATION:Santa Pola (Alicante)
URL:https://ceeielche.emprenemjunts.es/?op=14&n=13371
GEO:38.192425;-0.554796
END:VEVENT
END:VCALENDAR
