BEGIN:VCALENDAR
VERSION:2.0
PRODID:-//CEEI Elche//EmprenemJunts//ES
BEGIN:VEVENT
UID:Evento_13426
DTSTAMP:20180417T072141Z
DTSTART:20180628T070000Z
DTEND:20180628T120000Z
SUMMARY:Focus Pyme y Emprendimiento Alto y Medio Vinalopó 2018
DESCRIPTION:Cooperativismo y Economía Social
LOCATION:Petrer (Alicante)
URL:https://ceeielche.emprenemjunts.es/?op=14&n=13426
GEO:38.484722;-0.771690
END:VEVENT
END:VCALENDAR
