BEGIN:VCALENDAR
VERSION:2.0
PRODID:-//CEEI Elche//EmprenemJunts//ES
BEGIN:VEVENT
UID:Evento_13463
DTSTAMP:20180424T080944Z
DTSTART:20181122T080000Z
DTEND:20181122T130000Z
SUMMARY:Focus Pyme y Emprendimiento Marina Alta 2018
DESCRIPTION:Economía azul y turismo deportivo
LOCATION:Xàbia/Jávea (Alicante)
URL:https://ceeielche.emprenemjunts.es/?op=14&n=13463
GEO:38.789070;0.163877
END:VEVENT
END:VCALENDAR
