BEGIN:VCALENDAR
VERSION:2.0
PRODID:-//CEEI Elche//EmprenemJunts//ES
BEGIN:VEVENT
UID:Evento_13714
DTSTAMP:20180618T073116Z
DTSTART:20180622T070000Z
DTEND:20180622T111500Z
SUMMARY:I Encuentro Innovador del Sector Agroalimentario de la Vega Baja
DESCRIPTION:
LOCATION:Almoradí (Alicante)
URL:https://ceeielche.emprenemjunts.es/?op=14&n=13714
GEO:38.106113;-0.799499
END:VEVENT
END:VCALENDAR
