BEGIN:VCALENDAR
VERSION:2.0
PRODID:-//CEEI Castellón//EmprenemJunts//ES
BEGIN:VEVENT
UID:Evento_14319
DTSTAMP:20181106T165831Z
DTSTART:20181130T080000Z
DTEND:20181130T133000Z
SUMMARY:#FocusPyme EnrÃ©date, encuentro empresarial y de networking
DESCRIPTION:Nos enredamos para crear nuevas oportunidades
LOCATION:CastellÃ³ de la Plana/CastellÃ³n de la Plana (CastellÃ³n)
URL:https://ceeicastellon.emprenemjunts.es/?op=14&n=14319
GEO:39.993362;-0.023827
END:VEVENT
END:VCALENDAR
