BEGIN:VCALENDAR
VERSION:2.0
PRODID:-//CEEI Elche//EmprenemJunts//ES
BEGIN:VEVENT
UID:Evento_14701
DTSTAMP:20190209T104333Z
DTSTART:20190219T173000Z
DTEND:20190219T200000Z
SUMMARY:AfterTest Alicante
DESCRIPTION:Descubriendo los microservicios
LOCATION:Alacant/Alicante (Alicante)
URL:https://ceeielche.emprenemjunts.es/?op=14&n=14701
GEO:38.346554;-0.483857
END:VEVENT
END:VCALENDAR
