BEGIN:VCALENDAR
VERSION:2.0
PRODID:-//CEEI Valencia//EmprenemJunts//ES
BEGIN:VEVENT
UID:Evento_15223
DTSTAMP:20190425T115129Z
DTSTART:20190522T070000Z
DTEND:20190731T120000Z
SUMMARY:Curso de especialización en Compliance y Protección de Datos
DESCRIPTION:Formación para jóvenes desempleados
LOCATION:Valencia (Valencia)
URL:https://ceeivalencia.emprenemjunts.es/?op=14&n=15223
GEO:39.483891;-0.381110
END:VEVENT
END:VCALENDAR
