BEGIN:VCALENDAR
VERSION:2.0
PRODID:-//CEEI Elche//EmprenemJunts//ES
BEGIN:VEVENT
UID:Evento_15298
DTSTAMP:20190513T075513Z
DTSTART:20190529T080000Z
DTEND:20190612T120000Z
SUMMARY:Sesión Facilitadores BIK IDEA en Elche
DESCRIPTION:29 de mayo, 5 y 12 de junio para agentes del Ecosistema Emprendedor de la CV
LOCATION:Elx/Elche (Alicante)
URL:https://ceeielche.emprenemjunts.es/?op=14&n=15298
GEO:38.281338;-0.724342
END:VEVENT
END:VCALENDAR
