BEGIN:VCALENDAR
VERSION:2.0
PRODID:-//CEEI Valencia//EmprenemJunts//ES
BEGIN:VEVENT
UID:Evento_15453
DTSTAMP:20190531T130108Z
DTSTART:20190614T080000Z
DTEND:20190614T110000Z
SUMMARY:Taller Innovación territorial, 14 de junio en Villar del Arzobispo
DESCRIPTION:Itinerarios para el emprendimiento y el desarrollo del territorio para Agentes Ecosistema Emprendedor CV
LOCATION:Villar del Arzobispo (Valencia)
URL:https://ceeivalencia.emprenemjunts.es/?op=14&n=15453
GEO:39.733395;-0.826156
END:VEVENT
END:VCALENDAR
