BEGIN:VCALENDAR
VERSION:2.0
PRODID:-//CEEI Castellón//EmprenemJunts//ES
BEGIN:VEVENT
UID:Evento_15603
DTSTAMP:20190715T103451Z
DTSTART:20190917T130000Z
DTEND:20190926T170000Z
SUMMARY:Taller: CÃ³mo estudiar a tu competencia para superarla
DESCRIPTION:CEDES Morella
LOCATION:Morella (CastellÃ³n)
URL:https://ceeicastellon.emprenemjunts.es/?op=14&n=15603
GEO:40.612095;-0.097376
END:VEVENT
END:VCALENDAR
