BEGIN:VCALENDAR
VERSION:2.0
PRODID:-//CEEI Valencia//EmprenemJunts//ES
BEGIN:VEVENT
UID:Evento_15673
DTSTAMP:20190813T104659Z
DTSTART:20190924T143000Z
DTEND:20190924T173000Z
SUMMARY:Decreto Venta de Proximidad de productos agroalimentarios (TORRENT)
DESCRIPTION:Jornadas de emprendimiento agroalimentario
LOCATION:Torrent (Valencia)
URL:https://ceeivalencia.emprenemjunts.es/?op=14&n=15673
GEO:39.436344;-0.461475
END:VEVENT
END:VCALENDAR
