BEGIN:VCALENDAR
VERSION:2.0
PRODID:-//CEEI Castellón//EmprenemJunts//ES
BEGIN:VEVENT
UID:Evento_15685
DTSTAMP:20190821T103935Z
DTSTART:20190902T080000Z
DTEND:20190902T100000Z
SUMMARY:Networking para emprendedor@s CAFE-CREA
DESCRIPTION:Micro-charla \"RESTAURACION AMBIENTAL desde la CUSTODIA del TERRITORIO\" Eco-desayuno y visita guiada
LOCATION:CastellÃ³ de la Plana/CastellÃ³n de la Plana (CastellÃ³n)
URL:https://ceeicastellon.emprenemjunts.es/?op=14&n=15685
GEO:39.971142;-0.082627
END:VEVENT
END:VCALENDAR
