BEGIN:VCALENDAR
VERSION:2.0
PRODID:-//CEEI Valencia//EmprenemJunts//ES
BEGIN:VEVENT
UID:Evento_15778
DTSTAMP:20190916T103809Z
DTSTART:20191029T150000Z
DTEND:20191029T180000Z
SUMMARY:Aplica el neuromarketing para vender más y mejor
DESCRIPTION:Jornada Neuromarketing en Gandia con Pablo Ferreirós
LOCATION:Gandia (Valencia)
URL:https://ceeivalencia.emprenemjunts.es/?op=14&n=15778
GEO:38.964405;-0.181937
END:VEVENT
END:VCALENDAR
