BEGIN:VCALENDAR
VERSION:2.0
PRODID:-//CEEI Valencia//EmprenemJunts//ES
BEGIN:VEVENT
UID:Evento_15943
DTSTAMP:20191008T095544Z
DTSTART:20191108T090000Z
DTEND:20191108T120000Z
SUMMARY:Taller Innovación territorial, 8 de noviembre en Gandia
DESCRIPTION:Itinerarios para el emprendimiento y el desarrollo del territorio para Agentes Ecosistema Emprendedor CV
LOCATION:Gandia (Valencia)
URL:https://ceeivalencia.emprenemjunts.es/?op=14&n=15943
GEO:38.964405;-0.181937
END:VEVENT
END:VCALENDAR
