BEGIN:VCALENDAR
VERSION:2.0
PRODID:-//Focus Pyme y Emprendimiento//EmprenemJunts//ES
BEGIN:VEVENT
UID:Evento_15972
DTSTAMP:20191011T080911Z
DTSTART:20191106T083000Z
DTEND:20191106T093000Z
SUMMARY:Europa Oportunidades. Servicios Europeos para la competitividad empresarial
DESCRIPTION:
LOCATION:Elx/Elche (Alicante)
URL:https://focuspyme.emprenemjunts.es/?op=14&n=15972
GEO:38.263744;-0.695678
END:VEVENT
END:VCALENDAR
