BEGIN:VCALENDAR
VERSION:2.0
PRODID:-//CEEI Castell髇//EmprenemJunts//ES
BEGIN:VEVENT
UID:Evento_16032
DTSTAMP:20191021T112644Z
DTSTART:20191029T090000Z
DTEND:20191029T180000Z
SUMMARY:Taller gratuito de ESTRATEGIA - \"De la idea al Plan de empresa\"
DESCRIPTION:Trabaja tu proyecto de emprendimiento desde la creatividad, la innovaci贸n, el dise帽o y la comunicaci贸n
LOCATION:Castell贸 de la Plana/Castell贸n de la Plana (Castell贸n)
URL:https://ceeicastellon.emprenemjunts.es/?op=14&n=16032
GEO:39.971142;-0.082627
END:VEVENT
END:VCALENDAR
