BEGIN:VCALENDAR
VERSION:2.0
PRODID:-//CEEI Elche//EmprenemJunts//ES
BEGIN:VEVENT
UID:Evento_16426
DTSTAMP:20200204T105857Z
DTSTART:20200310T080000Z
DTEND:20200310T100000Z
SUMMARY:Taller Mercado de Trabajo y Objetivo Profesional
DESCRIPTION:
LOCATION:La Nucia (Alicante)
URL:https://ceeielche.emprenemjunts.es/?op=14&n=16426
GEO:38.603531;-0.130166
END:VEVENT
END:VCALENDAR
