BEGIN:VCALENDAR
VERSION:2.0
PRODID:-//CEEI Elche//EmprenemJunts//ES
BEGIN:VEVENT
UID:Evento_16427
DTSTAMP:20200204T110316Z
DTSTART:20200211T080000Z
DTEND:20200211T100000Z
SUMMARY:Taller de Mercado y Objetivos Profesionales
DESCRIPTION:
LOCATION:La Nucia (Alicante)
URL:https://ceeielche.emprenemjunts.es/?op=14&n=16427
GEO:38.603531;-0.130166
END:VEVENT
END:VCALENDAR
