BEGIN:VCALENDAR
VERSION:2.0
PRODID:-//CEEI Elche//EmprenemJunts//ES
BEGIN:VEVENT
UID:Evento_16542
DTSTAMP:20200221T100154Z
DTSTART:20200602T130000Z
DTEND:20200604T150000Z
SUMMARY:Google My Business como herramienta de Marketing Local
DESCRIPTION:
LOCATION:La Nucia (Alicante)
URL:https://ceeielche.emprenemjunts.es/?op=14&n=16542
GEO:38.603531;-0.130166
END:VEVENT
END:VCALENDAR
