BEGIN:VCALENDAR
VERSION:2.0
PRODID:-//CEEI Elche//EmprenemJunts//ES
BEGIN:VEVENT
UID:Evento_16544
DTSTAMP:20200221T100547Z
DTSTART:20200609T130000Z
DTEND:20200611T150000Z
SUMMARY:Trello. Organización de Tareas
DESCRIPTION:
LOCATION:La Nucia (Alicante)
URL:https://ceeielche.emprenemjunts.es/?op=14&n=16544
GEO:38.603531;-0.130166
END:VEVENT
END:VCALENDAR
