BEGIN:VCALENDAR
VERSION:2.0
PRODID:-//CEEI Elche//EmprenemJunts//ES
BEGIN:VEVENT
UID:Evento_16862
DTSTAMP:20200423T092309Z
DTSTART:20200527T100000Z
DTEND:20200527T110000Z
SUMMARY:Definición de cliente con mapa persona
DESCRIPTION:Webinar CEEI Elche
LOCATION:
URL:https://ceeielche.emprenemjunts.es/?op=14&n=16862
END:VEVENT
END:VCALENDAR
