BEGIN:VCALENDAR
VERSION:2.0
PRODID:-//CEEI Valencia//EmprenemJunts//ES
BEGIN:VEVENT
UID:Evento_17408
DTSTAMP:20200727T140949Z
DTSTART:20200917T080000Z
DTEND:20200917T093000Z
SUMMARY:Soluciones tecnológicas para el sector turístico en el entorno Covid. Casos de éxito
DESCRIPTION:Ciclo Foro Emprendimiento con Talento  Turismo
LOCATION:
URL:https://ceeivalencia.emprenemjunts.es/?op=14&n=17408
END:VEVENT
END:VCALENDAR
