BEGIN:VCALENDAR
VERSION:2.0
PRODID:-//CEEI Elche//EmprenemJunts//ES
BEGIN:VEVENT
UID:Evento_17749
DTSTAMP:20201023T093800Z
DTSTART:20201127T090000Z
DTEND:20201127T110000Z
SUMMARY:Foro Emprendimiento Con Talento Impulsa Alicante 2020
DESCRIPTION:Talento emprendedor femenino en la era Covid 19
LOCATION:
URL:https://ceeielche.emprenemjunts.es/?op=14&n=17749
END:VEVENT
END:VCALENDAR
