BEGIN:VCALENDAR
VERSION:2.0
PRODID:-//CEEI Valencia//EmprenemJunts//ES
BEGIN:VEVENT
UID:Evento_17925
DTSTAMP:20201124T091254Z
DTSTART:20201130T090000Z
DTEND:20201130T120000Z
SUMMARY:Redes sociales, internet y marketing social media en el sector agroalimentario y agroturístico
DESCRIPTION:
LOCATION:Alzira (Valencia)
URL:https://ceeivalencia.emprenemjunts.es/?op=14&n=17925
END:VEVENT
END:VCALENDAR
