BEGIN:VCALENDAR
VERSION:2.0
PRODID:-//CEEI Valencia//EmprenemJunts//ES
BEGIN:VEVENT
UID:Evento_17949
DTSTAMP:20201130T080456Z
DTSTART:20201210T150000Z
DTEND:20201210T170000Z
SUMMARY:Seminario Claves para buscar financiación y ayudas para abrir tu negocio
DESCRIPTION:Seminario gratuito para emprendedores/as de la Com. Valenciana
LOCATION:
URL:https://ceeivalencia.emprenemjunts.es/?op=14&n=17949
END:VEVENT
END:VCALENDAR
