BEGIN:VCALENDAR
VERSION:2.0
PRODID:-//CEEI Valencia//EmprenemJunts//ES
BEGIN:VEVENT
UID:Evento_18854
DTSTAMP:20210526T114450Z
DTSTART:20210608T150000Z
DTEND:20210608T160000Z
SUMMARY:Webinar OKR: Desarrolla objetivos y resultados clave como lo hacen empresas como Google
DESCRIPTION:Imparten Roberto Touza y Javier Rivero
LOCATION:
URL:https://ceeivalencia.emprenemjunts.es/?op=14&n=18854
END:VEVENT
END:VCALENDAR
