BEGIN:VCALENDAR
VERSION:2.0
PRODID:-//CEEI Castellón//EmprenemJunts//ES
BEGIN:VEVENT
UID:Evento_18856
DTSTAMP:20210527T104455Z
DTSTART:20210601T083000Z
DTEND:20210601T093000Z
SUMMARY:Emprender con Sociedades Laborales para un empleo estable y de calidad
DESCRIPTION:Organiza AESAL-CV
LOCATION:Vila-real (CastellÃ³n)
URL:https://ceeicastellon.emprenemjunts.es/?op=14&n=18856
END:VEVENT
END:VCALENDAR
