BEGIN:VCALENDAR
VERSION:2.0
PRODID:-//CEEI Valencia//EmprenemJunts//ES
BEGIN:VEVENT
UID:Evento_18860
DTSTAMP:20210528T083026Z
DTSTART:20210615T150000Z
DTEND:20210615T153000Z
SUMMARY:OKR Certificado CAMPUS CEEI. Todo acerca del programa
DESCRIPTION:Imparten Roberto Touza y Javier Rivero
LOCATION:
URL:https://ceeivalencia.emprenemjunts.es/?op=14&n=18860
END:VEVENT
END:VCALENDAR
