BEGIN:VCALENDAR
VERSION:2.0
PRODID:-//CEEI Valencia//EmprenemJunts//ES
BEGIN:VEVENT
UID:Evento_18929
DTSTAMP:20210609T095435Z
DTSTART:20210630T080000Z
DTEND:20210630T090000Z
SUMMARY:Emprender con sociedades laborales para una ocupación estable y de calidad
DESCRIPTION:Taller mixto: presencial y online
LOCATION:Albaida (Valencia)
URL:https://ceeivalencia.emprenemjunts.es/?op=14&n=18929
GEO:38.841702;-0.519510
END:VEVENT
END:VCALENDAR
