BEGIN:VCALENDAR
VERSION:2.0
PRODID:-//CEEI Valencia//EmprenemJunts//ES
BEGIN:VEVENT
UID:Evento_19389
DTSTAMP:20211019T115256Z
DTSTART:20211020T153000Z
DTEND:20211020T170000Z
SUMMARY:Startups and Investors Connect (SI Connect)
DESCRIPTION:El espacio de encuentro entre inversores y startups en Valencia
LOCATION:
URL:https://ceeivalencia.emprenemjunts.es/?op=14&n=19389
END:VEVENT
END:VCALENDAR
