BEGIN:VCALENDAR
VERSION:2.0
PRODID:-//Focus Pyme y Emprendimiento//EmprenemJunts//ES
BEGIN:VEVENT
UID:Evento_19541
DTSTAMP:20211105T124502Z
DTSTART:20211201T110000Z
DTEND:20211201T130000Z
SUMMARY:Responsabilidad social y sostenibilidad: Retos y oportunidades
DESCRIPTION:Semana Focus Pyme y Emprendimiento CV 2021
LOCATION:
URL:https://focuspyme.emprenemjunts.es/?op=14&n=19541
END:VEVENT
END:VCALENDAR
