BEGIN:VCALENDAR
VERSION:2.0
PRODID:-//Focus Pyme y Emprendimiento//EmprenemJunts//ES
BEGIN:VEVENT
UID:Evento_19549
DTSTAMP:20211108T175028Z
DTSTART:20211201T110000Z
DTEND:20211201T113000Z
SUMMARY:Presentación Informe GEM Global Entreprenenurship Monitor 2020-2021
DESCRIPTION:Semana Focus Pyme y Emprendimiento CV 2021
LOCATION:
URL:https://focuspyme.emprenemjunts.es/?op=14&n=19549
END:VEVENT
END:VCALENDAR
