BEGIN:VCALENDAR
VERSION:2.0
PRODID:-//Europa//EmprenemJunts//ES
BEGIN:VEVENT
UID:Evento_19773
DTSTAMP:20220113T145454Z
DTSTART:20220126T150000Z
DTEND:20220126T160000Z
SUMMARY:SEMIFINAL Agritrech Startup Europe Accelerathon
DESCRIPTION:
LOCATION:
URL:https://europa.emprenemjunts.es/?op=14&n=19773
END:VEVENT
END:VCALENDAR
