BEGIN:VCALENDAR
VERSION:2.0
PRODID:-//Emprenemjunts//EmprenemJunts//ES
BEGIN:VEVENT
UID:Evento_19903
DTSTAMP:20220211T111542Z
DTSTART:20220223T110000Z
DTEND:20220223T120000Z
SUMMARY:Presentación de LLAMP AMES 2022
DESCRIPTION:Webinar organizado para informar a los Agentes del ecosistema de emprendimiento de la Comunitat Valenciana.
LOCATION:
URL:https://www.emprenemjunts.es/?op=14&n=19903
END:VEVENT
END:VCALENDAR
