BEGIN:VCALENDAR
VERSION:2.0
PRODID:-//CEEI Valencia//EmprenemJunts//ES
BEGIN:VEVENT
UID:Evento_19998
DTSTAMP:20220224T104225Z
DTSTART:20220309T090000Z
DTEND:20220309T110000Z
SUMMARY:Emprende con sociedades laborales
DESCRIPTION:Beneficios de la economía social
LOCATION:Chiva (Valencia)
URL:https://ceeivalencia.emprenemjunts.es/?op=14&n=19998
GEO:39.471657;-0.716943
END:VEVENT
END:VCALENDAR
