BEGIN:VCALENDAR
VERSION:2.0
PRODID:-//CEEI Elche//EmprenemJunts//ES
BEGIN:VEVENT
UID:Evento_20035
DTSTAMP:20220307T110406Z
DTSTART:20220329T080000Z
DTEND:20220329T093000Z
SUMMARY:Presentación Actividades 2022 para Agentes del Ecosistema de Emprendimiento de las Comarcas del Alto y Medio Vinalopó
DESCRIPTION:Acciones IVACE y CEEI Elche dirigidas a agentes para recuperar y fortalecer el tejido empresarial de la Comunitat Valenciana
LOCATION:Elda (Alicante)
URL:https://ceeielche.emprenemjunts.es/?op=14&n=20035
GEO:38.476276;-0.791446
END:VEVENT
END:VCALENDAR
