BEGIN:VCALENDAR
VERSION:2.0
PRODID:-//CEEI Valencia//EmprenemJunts//ES
BEGIN:VEVENT
UID:Evento_20094
DTSTAMP:20220321T082021Z
DTSTART:20220328T215900Z
DTEND:20220328T215900Z
SUMMARY:El EIC de Horizonte Europa: Instrumento de la CE para fomentar el crecimiento de pymes innovadoras
DESCRIPTION:
LOCATION:Valencia (Valencia)
URL:https://ceeivalencia.emprenemjunts.es/?op=14&n=20094
GEO:39.456390;-0.330736
END:VEVENT
END:VCALENDAR
