BEGIN:VCALENDAR
VERSION:2.0
PRODID:-//CEEI Elche//EmprenemJunts//ES
BEGIN:VEVENT
UID:Evento_20140
DTSTAMP:20220328T083240Z
DTSTART:20220407T084000Z
DTEND:20220407T091000Z
SUMMARY:Mesa redonda: \"La visión de la innovación colaborativa desde el territorio\"
DESCRIPTION:
LOCATION:Alacant/Alicante (Alicante)
URL:https://ceeielche.emprenemjunts.es/?op=14&n=20140
GEO:38.345753;-0.479958
END:VEVENT
END:VCALENDAR
