BEGIN:VCALENDAR
VERSION:2.0
PRODID:-//CEEI Valencia//EmprenemJunts//ES
BEGIN:VEVENT
UID:Evento_20155
DTSTAMP:20220329T112841Z
DTSTART:20220407T080000Z
DTEND:20220407T090000Z
SUMMARY:¿Sabes qué es el proyecto LLAMP AMES?
DESCRIPTION:¿Tienes una idea de negocio?
LOCATION:
URL:https://ceeivalencia.emprenemjunts.es/?op=14&n=20155
END:VEVENT
END:VCALENDAR
