BEGIN:VCALENDAR
VERSION:2.0
PRODID:-//CEEI Elche//EmprenemJunts//ES
BEGIN:VEVENT
UID:Evento_20161
DTSTAMP:20220330T134431Z
DTSTART:20220404T080000Z
DTEND:20220404T093000Z
SUMMARY:I Conversatorio Virtual MigraCOOP 2022
DESCRIPTION:
LOCATION:
URL:https://ceeielche.emprenemjunts.es/?op=14&n=20161
END:VEVENT
END:VCALENDAR
