BEGIN:VCALENDAR
VERSION:2.0
PRODID:-//CEEI Castellón//EmprenemJunts//ES
BEGIN:VEVENT
UID:Evento_20249
DTSTAMP:20220421T071752Z
DTSTART:20220524T140000Z
DTEND:20220524T170000Z
SUMMARY:JORNADA GRATUITA MEJORA DE LA COMERCIALIZACIÃ“N AGROALIMENTARIA Y AGROTURISTICA
DESCRIPTION:
LOCATION:Soneja (CastellÃ³n)
URL:https://ceeicastellon.emprenemjunts.es/?op=14&n=20249
END:VEVENT
END:VCALENDAR
