BEGIN:VCALENDAR
VERSION:2.0
PRODID:-//CEEI Valencia//EmprenemJunts//ES
BEGIN:VEVENT
UID:Evento_20352
DTSTAMP:20220503T184502Z
DTSTART:20220519T073000Z
DTEND:20220519T160000Z
SUMMARY:Emprende y Despega Comunitat Valenciana
DESCRIPTION:Evento gratuito para personas emprendedoras desempleadas con ganas de poner en marcha su negocio.
LOCATION:Valencia (Valencia)
URL:https://ceeivalencia.emprenemjunts.es/?op=14&n=20352
GEO:39.461288;-0.323815
END:VEVENT
END:VCALENDAR
