BEGIN:VCALENDAR
VERSION:2.0
PRODID:-//CEEI Castellón//EmprenemJunts//ES
BEGIN:VEVENT
UID:Evento_20517
DTSTAMP:20220602T070036Z
DTSTART:20220607T080000Z
DTEND:20220607T110000Z
SUMMARY:Jornada Sostenibilidad empresarial: Nueva Ley empresarial Valenciana sobre Cambio ClimÃ¡tico
DESCRIPTION:
LOCATION:CastellÃ³ de la Plana/CastellÃ³n de la Plana (CastellÃ³n)
URL:https://ceeicastellon.emprenemjunts.es/?op=14&n=20517
GEO:39.981770;-0.024583
END:VEVENT
END:VCALENDAR
