BEGIN:VCALENDAR
VERSION:2.0
PRODID:-//CEEI Castellón//EmprenemJunts//ES
BEGIN:VEVENT
UID:Evento_20522
DTSTAMP:20220602T095733Z
DTSTART:20220613T120000Z
DTEND:20220613T150000Z
SUMMARY:Jornada: Vende a travÃ©s de Facebook e Instagram
DESCRIPTION:
LOCATION:L\'Alcora (CastellÃ³n)
URL:https://ceeicastellon.emprenemjunts.es/?op=14&n=20522
GEO:40.072800;-0.213023
END:VEVENT
END:VCALENDAR
