BEGIN:VCALENDAR
VERSION:2.0
PRODID:-//CEEI Castellón//EmprenemJunts//ES
BEGIN:VEVENT
UID:Evento_20534
DTSTAMP:20220603T082414Z
DTSTART:20221005T130000Z
DTEND:20221006T143000Z
SUMMARY:Ciclo de trabajo en Redes Sociales: Trello, Canva y Creator Studio
DESCRIPTION:
LOCATION:Onda (CastellÃ³n)
URL:https://ceeicastellon.emprenemjunts.es/?op=14&n=20534
GEO:39.963543;-0.267148
END:VEVENT
END:VCALENDAR
