BEGIN:VCALENDAR
VERSION:2.0
PRODID:-//CEEI Valencia//EmprenemJunts//ES
BEGIN:VEVENT
UID:Evento_20579
DTSTAMP:20220608T110937Z
DTSTART:20220614T080000Z
DTEND:20220614T100000Z
SUMMARY:Networking Coffee Break
DESCRIPTION:III Jornada de Presentación del Programa LLAMP
LOCATION:Valencia (Valencia)
URL:https://ceeivalencia.emprenemjunts.es/?op=14&n=20579
GEO:39.452995;-0.366383
END:VEVENT
END:VCALENDAR
