BEGIN:VCALENDAR
VERSION:2.0
PRODID:-//CEEI Castell髇//EmprenemJunts//ES
BEGIN:VEVENT
UID:Evento_20613
DTSTAMP:20220616T090024Z
DTSTART:20220705T063000Z
DTEND:20220705T120000Z
SUMMARY:Cinteligencia Castell贸n: IV foro de inteligencia competitiva para la internacionalizaci贸n
DESCRIPTION:UNA VISI脫N PROSPECTIVA: LAS PYMES ANTE EL NUEVO ORDEN ECON脫MICO GLOBAL
LOCATION:Castell贸 de la Plana/Castell贸n de la Plana (Castell贸n)
URL:https://ceeicastellon.emprenemjunts.es/?op=14&n=20613
GEO:39.981770;-0.024583
END:VEVENT
END:VCALENDAR
